BEGIN:VCALENDAR
PRODID:-//Microsoft Corporation//Outlook 14.0 MIMEDIR//EN
VERSION:2.0
METHOD:PUBLISH
X-MS-OLK-FORCEINSPECTOROPEN:TRUE
X-WR-CALNAME:Landskonference 1, 2024
BEGIN:VTIMEZONE
TZID:Romance Standard Time
BEGIN:STANDARD
DTSTART:20240722T100000Z
RRULE:FREQ=YEARLY;BYDAY=-1SU;BYMONTH=10
TZOFFSETFROM:+0200
TZOFFSETTO:+0100
END:STANDARD
BEGIN:DAYLIGHT
DTSTART:20240722T100000Z
RRULE:FREQ=YEARLY;BYDAY=-1SU;BYMONTH=3
DTSTART:20240722T100000Z
TZOFFSETFROM:+0100
TZOFFSETTO:+0200
END:DAYLIGHT
END:VTIMEZONE
BEGIN:VEVENT
CLASS:PUBLIC
UID:14894
DTSTAMP:20260421T084149Z
SEQUENCE:0
DTEND;TZID="Romance Standard Time":20240722T170000Z
DTSTART;TZID="Romance Standard Time":20240722T100000Z
LOCATION:
SUMMARY;LANGUAGE=da:Landskonference 1, 2024
DESCRIPTION:I Mariager Læs dagsordenen her. Se årsregnskab 2023 her. Se budget 2025 her.
URL;VALUE=URI:https://baptistkirken.dk/?p=14894
BEGIN:VALARM
TRIGGER:-PT720M
ACTION:DISPLAY
DESCRIPTION:I Mariager Læs dagsordenen her. Se årsregnskab 2023 her. Se budget 2025 her.
END:VALARM
END:VEVENT
END:VCALENDAR
