BEGIN:VCALENDAR
PRODID:-//Microsoft Corporation//Outlook 14.0 MIMEDIR//EN
VERSION:2.0
METHOD:PUBLISH
X-MS-OLK-FORCEINSPECTOROPEN:TRUE
X-WR-CALNAME:Inspirationsdøgn
BEGIN:VTIMEZONE
TZID:Romance Standard Time
BEGIN:STANDARD
DTSTART:20260424T170000Z
RRULE:FREQ=YEARLY;BYDAY=-1SU;BYMONTH=10
TZOFFSETFROM:+0200
TZOFFSETTO:+0100
END:STANDARD
BEGIN:DAYLIGHT
DTSTART:20260424T170000Z
RRULE:FREQ=YEARLY;BYDAY=-1SU;BYMONTH=3
DTSTART:20260424T170000Z
TZOFFSETFROM:+0100
TZOFFSETTO:+0200
END:DAYLIGHT
END:VTIMEZONE
BEGIN:VEVENT
CLASS:PUBLIC
UID:17975
DTSTAMP:20260422T060317Z
SEQUENCE:0
DTEND;TZID="Romance Standard Time":20260425T160000Z
DTSTART;TZID="Romance Standard Time":20260424T170000Z
LOCATION:
SUMMARY;LANGUAGE=da:Inspirationsdøgn
X-ALT-DESC;FMTTYPE=text/html:<!DOCTYPE HTML PUBLIC "-//W3C//DTD HTML 3.2//EN"><HTML><BODY><p>Vi mødes på Trinity Hotel og Konference Center, Gl. Færgevej 30, Snoghøj, 7000 Fredericia. Ankomst og kaffe fra kl. 15.00 fredag d. 24. april. Programmet afsluttes kl. 16.00 lørdag d. 25. april. Læs mere her. Tilmeld dig her: Der holdes en ekstra landskonference fredag d. 24. april fra kl. 16.00 til 17.00.<br/><a href="https://baptistkirken.dk/?p=17975">Læs mere</a><br/></p></BODY></HTML>

URL;VALUE=URI:https://baptistkirken.dk/?p=17975
BEGIN:VALARM
TRIGGER:-PT720M
ACTION:DISPLAY
DESCRIPTION:Vi mødes på Trinity Hotel og Konference Center, Gl. Færgevej 30, Snoghøj, 7000 Fredericia. Ankomst og kaffe fra kl. 15.00 fredag d. 24. april. Programmet afsluttes kl. 16.00 lørdag d. 25. april. Læs mere her. Tilmeld dig her: Der holdes en ekstra landskonference fredag d. 24. april fra kl. 16.00 til 17.00.
END:VALARM
END:VEVENT
END:VCALENDAR
