BEGIN:VCALENDAR
PRODID:-//Microsoft Corporation//Outlook 14.0 MIMEDIR//EN
VERSION:2.0
METHOD:PUBLISH
X-MS-OLK-FORCEINSPECTOROPEN:TRUE
X-WR-CALNAME:Landskonference
BEGIN:VTIMEZONE
TZID:Romance Standard Time
BEGIN:STANDARD
DTSTART:20261003T000000Z
RRULE:FREQ=YEARLY;BYDAY=-1SU;BYMONTH=10
TZOFFSETFROM:+0200
TZOFFSETTO:+0100
END:STANDARD
BEGIN:DAYLIGHT
DTSTART:20261003T000000Z
RRULE:FREQ=YEARLY;BYDAY=-1SU;BYMONTH=3
DTSTART:20261003T000000Z
TZOFFSETFROM:+0100
TZOFFSETTO:+0200
END:DAYLIGHT
END:VTIMEZONE
BEGIN:VEVENT
CLASS:PUBLIC
UID:17982
DTSTAMP:20260422T005626Z
SEQUENCE:0
DTEND;TZID="Romance Standard Time":20261003T235900Z
DTSTART;TZID="Romance Standard Time":20261003T000000Z
LOCATION:
SUMMARY;LANGUAGE=da:Landskonference
X-ALT-DESC;FMTTYPE=text/html:<!DOCTYPE HTML PUBLIC "-//W3C//DTD HTML 3.2//EN"><HTML><BODY><p>Landskonferencen afholdes hos Lai Baptist Church i Ringe.<br/><a href="https://baptistkirken.dk/?p=17982">Læs mere</a><br/></p></BODY></HTML>

URL;VALUE=URI:https://baptistkirken.dk/?p=17982
BEGIN:VALARM
TRIGGER:-PT720M
ACTION:DISPLAY
DESCRIPTION:Landskonferencen afholdes hos Lai Baptist Church i Ringe.
END:VALARM
END:VEVENT
END:VCALENDAR
